BEGIN:VCALENDAR
METHOD:PUBLISH
PRODID:Data::ICal 0.13
VERSION:2.0
BEGIN:VEVENT
DESCRIPTION:[caption id=&quot;attachment_3431472&quot; align=&quot;aligncenter&quot; width=&quot;700&quot;] Source: R1 / General[/caption]\nTo honor and celebrate the legacy of Dr. Martin Luther King, Jr., City Year Cleveland and Newstalk Cleveland will spend Monday, January 15th from 9 a.m. to 12 p.m. serving the Greater Cleveland Community. \nJoin us to spend the morning in service with one of our nonprofit partners: Shoes and Clothes For Kids, Goods Bank NEO, and First Baptist Church Of Greater Cleveland. Then join us at 1 p.m. as we gather for lunch and a discussion across generations - a guided conversation that fosters a sense of constructive action, civic participation, and belonging in our community.  \nRegistration for this event is free but space is limited! Register below! \n\nCLICK HERE TO REGISTER\n&nbsp;
DTSTAMP:20260421T154826Z
DTSTART;TZID=America/New_York:19700101T000000
DTEND;TZID=America/New_York:19700101T000000
LOCATION:
SUMMARY:Do Something Day 2024! Register Here
UID:3431466--
END:VEVENT
END:VCALENDAR
